BEGIN:VCALENDAR
VERSION:2.0
PRODID:-//EAA-Niedersachsen - ECPv6.15.17.1//NONSGML v1.0//EN
CALSCALE:GREGORIAN
METHOD:PUBLISH
X-WR-CALNAME:EAA-Niedersachsen
X-ORIGINAL-URL:https://eaa-niedersachsen.de
X-WR-CALDESC:Veranstaltungen für EAA-Niedersachsen
REFRESH-INTERVAL;VALUE=DURATION:PT1H
X-Robots-Tag:noindex
X-PUBLISHED-TTL:PT1H
BEGIN:VTIMEZONE
TZID:Europe/Berlin
BEGIN:DAYLIGHT
TZOFFSETFROM:+0100
TZOFFSETTO:+0200
TZNAME:CEST
DTSTART:20250330T010000
END:DAYLIGHT
BEGIN:STANDARD
TZOFFSETFROM:+0200
TZOFFSETTO:+0100
TZNAME:CET
DTSTART:20251026T010000
END:STANDARD
BEGIN:DAYLIGHT
TZOFFSETFROM:+0100
TZOFFSETTO:+0200
TZNAME:CEST
DTSTART:20260329T010000
END:DAYLIGHT
BEGIN:STANDARD
TZOFFSETFROM:+0200
TZOFFSETTO:+0100
TZNAME:CET
DTSTART:20261025T010000
END:STANDARD
BEGIN:DAYLIGHT
TZOFFSETFROM:+0100
TZOFFSETTO:+0200
TZNAME:CEST
DTSTART:20270328T010000
END:DAYLIGHT
BEGIN:STANDARD
TZOFFSETFROM:+0200
TZOFFSETTO:+0100
TZNAME:CET
DTSTART:20271031T010000
END:STANDARD
END:VTIMEZONE
BEGIN:VEVENT
DTSTART;TZID=Europe/Berlin:20260612T100000
DTEND;TZID=Europe/Berlin:20260612T113000
DTSTAMP:20260422T120009
CREATED:20260417T083728Z
LAST-MODIFIED:20260417T083739Z
UID:8399-1781258400-1781263800@eaa-niedersachsen.de
SUMMARY:Fördermöglichkeiten nutzen – Fachkräfte finden und binden
DESCRIPTION:Holen Sie sich in dieser kompakten Digitalveranstaltung alles Wissenswerte rund um Fördermöglichkeiten zur Inklusion im Arbeitsleben. \n\n\n\nGemeinsam mit der Wirtschaftsförderung im Landkreis Nienburg/Weser GmbH (WiN)\, dem Integrationsamt sowie der Einheitlichen Ansprechstelle für Arbeitgeber (EAA) laden wir Sie herzlich ein\, sich über Fördermöglichkeiten\, von Zuschüssen bis hin zu Arbeitsplatzgestaltungen zu informieren. Außerdem erhalten Sie Anregungen\, wie die Fachkräftefindung und -bindung noch gelingen und sich obendrein finanziell lohnen kann.  \n\n\n\nWas Sie erwartet: \n\n\n\n\nFachimpulse\n\n\n\nTipps zu Fördermöglichkeiten\n\n\n\nPraxisnahe Lösungen für die Fachkräftegewinnung & -bindung\n\n\n\nAustausch & Best-Practice mit anderen Arbeitgebenden\n\n\n\n\nZielgruppe: Arbeitgebende\, Personalverantwortliche \n\n\n\nJetzt anmelden: https://pretix.eu/EAA-H/foerderung/ \n\n\n\nWir freuen uns auf Sie!
URL:https://eaa-niedersachsen.de/event/foerdermoeglichkeiten-nutzen-fachkraefte-finden-und-binden/
LOCATION:digital
CATEGORIES:EAA - digital
ATTACH;FMTTYPE=image/jpeg:https://eaa-niedersachsen.de/wp-content/uploads/2026/03/EAA-digital-Team-Hannover.jpg
END:VEVENT
BEGIN:VEVENT
DTSTART;TZID=Europe/Berlin:20260624T120000
DTEND;TZID=Europe/Berlin:20260624T123000
DTSTAMP:20260422T120009
CREATED:20251014T122811Z
LAST-MODIFIED:20251020T114100Z
UID:8150-1782302400-1782304200@eaa-niedersachsen.de
SUMMARY:EAA – Das sind wir!
DESCRIPTION:EAA – Das sind wir! \n\n\n\nBeraterteam für Arbeitgebende – Thema Arbeit und Behinderung \n\n\n\nSie sind daran interessiert\, welche Unterstützung Sie beim Thema Arbeit und Behinderung erhalten können? Dann sind Sie hier richtig! \n\n\n\nUm Arbeitgebenden den Zugang zu Informationen und Förderungen zu erleichtern\, wurde das kostenlose Angebot der Einheitlichen Ansprechstellen für Arbeitgeber – kurz EAA – vom Land Niedersachsen geschaffen. \n\n\n\nIn diesem wiederkehrenden Online-Format geben wir Ihnen in aller Kürze die Gelegenheit\, uns und unser Angebot kennenzulernen und uns Ihre Fragen zu stellen. \n\n\n\nWir freuen uns auf Ihre Teilnahme!  \n\n\n\nIhr EAA-Team Oldenburg  \n\n\n\n————————————————- \n\n\n\nFür diese Veranstaltung müssen Sie sich nicht anmelden! \n\n\n\nLink zur direkten Teilnahme über MS Teams \n\n\n\nBei technischen Problemen wenden Sie sich bitte direkt an das EAA-Team Oldenburg (s.u.)
URL:https://eaa-niedersachsen.de/event/eaa-das-sind-wir-6/
LOCATION:digital
CATEGORIES:EAA - das sind wir
ATTACH;FMTTYPE=image/jpeg:https://eaa-niedersachsen.de/wp-content/uploads/2025/03/EAA-Das-sind-wir-Team-OL.jpg
END:VEVENT
END:VCALENDAR