BEGIN:VCALENDAR
VERSION:2.0
PRODID:-//EAA-Niedersachsen - ECPv6.15.17.1//NONSGML v1.0//EN
CALSCALE:GREGORIAN
METHOD:PUBLISH
X-ORIGINAL-URL:https://eaa-niedersachsen.de
X-WR-CALDESC:Veranstaltungen für EAA-Niedersachsen
REFRESH-INTERVAL;VALUE=DURATION:PT1H
X-Robots-Tag:noindex
X-PUBLISHED-TTL:PT1H
BEGIN:VTIMEZONE
TZID:Europe/Berlin
BEGIN:DAYLIGHT
TZOFFSETFROM:+0100
TZOFFSETTO:+0200
TZNAME:CEST
DTSTART:20250330T010000
END:DAYLIGHT
BEGIN:STANDARD
TZOFFSETFROM:+0200
TZOFFSETTO:+0100
TZNAME:CET
DTSTART:20251026T010000
END:STANDARD
BEGIN:DAYLIGHT
TZOFFSETFROM:+0100
TZOFFSETTO:+0200
TZNAME:CEST
DTSTART:20260329T010000
END:DAYLIGHT
BEGIN:STANDARD
TZOFFSETFROM:+0200
TZOFFSETTO:+0100
TZNAME:CET
DTSTART:20261025T010000
END:STANDARD
BEGIN:DAYLIGHT
TZOFFSETFROM:+0100
TZOFFSETTO:+0200
TZNAME:CEST
DTSTART:20270328T010000
END:DAYLIGHT
BEGIN:STANDARD
TZOFFSETFROM:+0200
TZOFFSETTO:+0100
TZNAME:CET
DTSTART:20271031T010000
END:STANDARD
END:VTIMEZONE
BEGIN:VEVENT
DTSTART;TZID=Europe/Berlin:20260113T100000
DTEND;TZID=Europe/Berlin:20260113T120000
DTSTAMP:20260422T135837
CREATED:20251203T091123Z
LAST-MODIFIED:20251203T103842Z
UID:8186-1768298400-1768305600@eaa-niedersachsen.de
SUMMARY:BEM-Zirkel - kollegiale Fallbesprechung
DESCRIPTION:für BEM-Beauftragte der Unternehmen. \n\n\n\n\n\n\n\nWorum geht es? \n\n\n\nIn unserem zweiten BEM-Zirkel werden Ihnen Herr Christian Arndt vom Firmenservice der DRV-Bund und Herr Horst Feenders von der Gemeinde Unfall Versicherung Oldenburg unter Anwendung der Methode der kollegialen Fallbesprechung eine Möglichkeit bieten\, Fälle aus Ihrer BEM-Praxis zu diskutieren und gemeinsam Lösungen zu entwickeln. \n\n\n\nDer Zirkel lebt von den Fällen\, die Sie aus Ihrer Praxis mitbringen und dann in der Gruppe anonymisiert besprochen werden. Pro BEM-Zirkel ist die Besprechung zweier Fälle realistisch. \n\n\n\nVeranstaltungsort:Oldenburg \n\n\n\nAnmeldung:Anmelden können Sie sich bis eine Woche vor der Veranstaltung über folgenden Link zu unserem Ticketsystem: BEM-Zirkel II in Oldenburg \n\n\n\nDie Zahl der Teilnehmenden ist auf 10 begrenzt! Falls Sie an dem BEM-Zirkel nicht teilnehmen können\, sagen Sie am besten rechtzeitig ab\, damit wir noch Nachrücker berücksichtigen können.
URL:https://eaa-niedersachsen.de/event/eaa-bem-zirkel/
LOCATION:Oldenburg
CATEGORIES:EAA - präsent
ATTACH;FMTTYPE=image/png:https://eaa-niedersachsen.de/wp-content/uploads/2025/01/EAA-praesent-Team-OL.png
END:VEVENT
BEGIN:VEVENT
DTSTART;TZID=Europe/Berlin:20260121T100000
DTEND;TZID=Europe/Berlin:20260121T110000
DTSTAMP:20260422T135837
CREATED:20251216T081523Z
LAST-MODIFIED:20251216T081957Z
UID:8230-1768989600-1768993200@eaa-niedersachsen.de
SUMMARY:Berufliche Teilhabe gestalten – Praxis\, Perspektiven\, Austausch
DESCRIPTION:Wir laden Sie herzlich zu unserem nächsten digitalen Runden Tisch  \n\n\n\n„Berufliche Teilhabe gestalten – Praxis\, Perspektiven\, Austausch“ ein. \n\n\n\nAls Referenten begrüßen wir Martin Heimbrock\, Bereichsleiter Berufliche Rehabilitation bei derHeilpädagogischen Hilfe Bersenbrück (HpH)\, sowie seine Stellvertreterin und PädagogischeLeiterin Christina Hermann. Gemeinsam geben sie einen praxisnahen Einblick in die Angeboteder beruflichen Rehabilitation und zeigen Perspektiven für gelingende berufliche Teilhabe auf. \n\n\n\nThemenschwerpunkte: \n\n\n\nÜberblick über die Angebote der HpH \n\n\n\n\nLeistungen und Zielgruppen im Bereich der beruflichen Rehabilitation\n\n\n\nDer Bereich „Talente“\n\n\n\nVermittlung auf Außenarbeitsplätze\n\n\n\nPerspektiven für den ersten Arbeitsmarkt\, u. a. mit Unterstützung durch dasBudget für Arbeit\n\n\n\n\nPraxis und Austausch \n\n\n\n\nEinblicke aus der täglichen Arbeit\n\n\n\nOffene Diskussion mit den Teilnehmenden\n\n\n\n\nAnmeldung:Bitte melden Sie sich über folgenden Link an:  https://pretix.eu/EAA-OS/hph/ \n\n\n\nWir freuen uns auf spannende Einblicke\, konkrete Praxisbeispiele und einen lebendigenAustausch zur beruflichen Teilhabe von Menschen mit Beeinträchtigung. \n\n\n\nMit freundlichen Grüßen \n\n\n\nIhr Team der Einheitlichen Ansprechstellen für Arbeitgeber (EAA) NiedersachsenJulia Dörenkämper\, Sibylle Masselink\, Dr. Zeljko Dragic\, Monika Schleper
URL:https://eaa-niedersachsen.de/event/berufliche-teilhabe-gestalten-praxis-perspektiven-austausch/
LOCATION:digital
CATEGORIES:EAA - digital
ATTACH;FMTTYPE=image/jpeg:https://eaa-niedersachsen.de/wp-content/uploads/2025/12/251211-Martin-Heimbrock-und-Christina-Hermann-1-002.jpg
END:VEVENT
BEGIN:VEVENT
DTSTART;TZID=Europe/Berlin:20260128T140000
DTEND;TZID=Europe/Berlin:20260128T170000
DTSTAMP:20260422T135837
CREATED:20251216T082941Z
LAST-MODIFIED:20251216T082948Z
UID:8233-1769608800-1769619600@eaa-niedersachsen.de
SUMMARY:Ausbilderkompetenz: Psychische Stabilität der Auszubildenden stärken
DESCRIPTION:Einladung zur Veranstaltung  in Präsenz \n\n\n\nAusbilderkompetenz: Psychische Stabilität der Auszubildenden stärken \n\n\n\n \n\n\n\nEine Veranstaltung für Geschäftsführungen und Personalverantwortliche in Kooperation mit der IHK Elbe-Weser \n\n\n\nPsychische Krisen gehören zum Leben dazu. Psychische Erkrankungen haben in den letzten Jahren bei jungen Erwachsenen bereits vor der Covid19-Pandemie kontinuierlich zugenommen. Diese Entwicklung wurde dadurch noch weiter verschärft. Wie können Sie als Ausbilder psychische Krisen der Auszubildenden erkennen und darauf reagieren? Gemeinsam mit Vertretern der Beratungsstelle „Perspektive Arbeit & Gesundheit“ und „Gesundheitsmanagement und Prävention“ der AOK diskutieren Sie diese Fragen. Je mehr die Betroffenen und die Menschen des sozialen Umfelds darüber wissen\, desto besser und schneller kann darauf reagiert werden. \n\n\n\nInhalt: \n\n\n\n· Zusammenhänge von Gesundheit und (psychischer) Erkrankung \n\n\n\n· Mögliche Anzeichen einer psychischen Erkrankung \n\n\n\n· Wege aus der psychischen Krise \n\n\n\n· Das Hilfesystem – ein Überblick \n\n\n\n· Aufsuchende Unterstützung: Was Ihr Auszubildender meint\, wenn er von „seiner Betreuerin“ spricht \n\n\n\n· Welche Möglichkeiten der Prävention gibt es? \n\n\n\nLernziel: Sie wissen\, wie Sie psychische Krisen Ihrer Auszubildenden erkennen und an wen Sie sich zur Unterstützung wenden können. \n\n\n\nZielgruppe: Alle\, die als Ausbilder oder Ausbildungsbeauftragte tätig sind \n\n\n\nKursort: gr. Sitzungssaal (S 1) der IHK Stade (Hauptgeschäftsstelle) \n\n\n\nEntgelt: Die Teilnahme ist entgeltfrei. Anmeldung und weitere Informationen über die Seite der IHK: Unsere Seminare und Lehrgänge – IHK Elbe-Weser \n\n\n\nWir freuen uns auf Ihre Teilnahme \n\n\n\nIhr EAA Team Lüneburg und \n\n\n\ndie Industrie und Handelskammer Elbe-Weser
URL:https://eaa-niedersachsen.de/event/ausbilderkompetenz-psychische-stabilitaet-der-auszubildenden-staerken/
LOCATION:IHK Stade\, Am Schäfersteig 2\, Stade
CATEGORIES:EAA - präsent
END:VEVENT
END:VCALENDAR