BEGIN:VCALENDAR
VERSION:2.0
PRODID:-//EAA-Niedersachsen - ECPv6.15.17.1//NONSGML v1.0//EN
CALSCALE:GREGORIAN
METHOD:PUBLISH
X-WR-CALNAME:EAA-Niedersachsen
X-ORIGINAL-URL:https://eaa-niedersachsen.de
X-WR-CALDESC:Veranstaltungen für EAA-Niedersachsen
REFRESH-INTERVAL;VALUE=DURATION:PT1H
X-Robots-Tag:noindex
X-PUBLISHED-TTL:PT1H
BEGIN:VTIMEZONE
TZID:Europe/Berlin
BEGIN:DAYLIGHT
TZOFFSETFROM:+0100
TZOFFSETTO:+0200
TZNAME:CEST
DTSTART:20240331T010000
END:DAYLIGHT
BEGIN:STANDARD
TZOFFSETFROM:+0200
TZOFFSETTO:+0100
TZNAME:CET
DTSTART:20241027T010000
END:STANDARD
BEGIN:DAYLIGHT
TZOFFSETFROM:+0100
TZOFFSETTO:+0200
TZNAME:CEST
DTSTART:20250330T010000
END:DAYLIGHT
BEGIN:STANDARD
TZOFFSETFROM:+0200
TZOFFSETTO:+0100
TZNAME:CET
DTSTART:20251026T010000
END:STANDARD
BEGIN:DAYLIGHT
TZOFFSETFROM:+0100
TZOFFSETTO:+0200
TZNAME:CEST
DTSTART:20260329T010000
END:DAYLIGHT
BEGIN:STANDARD
TZOFFSETFROM:+0200
TZOFFSETTO:+0100
TZNAME:CET
DTSTART:20261025T010000
END:STANDARD
END:VTIMEZONE
BEGIN:VEVENT
DTSTART;TZID=Europe/Berlin:20251217T100000
DTEND;TZID=Europe/Berlin:20251217T110000
DTSTAMP:20260422T153458
CREATED:20251202T121904Z
LAST-MODIFIED:20251202T122407Z
UID:8184-1765965600-1765969200@eaa-niedersachsen.de
SUMMARY:Jobcoaching am Arbeitsplatz – Unterstützung für schwerbehinderte Menschen im Betrieb
DESCRIPTION:Die EAA\, Ihre zentrale Ansprechstelle für Arbeitgeber in der Region Osnabrück\, lädt Sie herzlich ein zur kostenlosen Veranstaltung \n\n\n\n„Jobcoaching am Arbeitsplatz – Unterstützung für schwerbehinderte Menschen im Betrieb“ \n\n\n\nIm Rahmen eines Impulsvortrags wird Frau Genesius\, JobcoachingAP vom Integrationsfachdienst Osnabrück\, das Angebot Jobcoaching am Arbeitsplatz vorstellen. \n\n\n\nFolgende und weitere Fragen werden diskutiert: \n\n\n\n\nWas kann ich tun\, wenn die Arbeitsfähigkeit/Belastbarkeit meines Mitarbeitenden nachlässt?\n\n\n\nWie gelingt ein Wiedereinstieg nach längerer Arbeitsunfähigkeit?\n\n\n\n\n\nWie können gestörte Arbeitsabläufe verbessert werden?\n\n\n\nWie kann der Arbeitsplatz meines Mitarbeitenden gesichert werden?\n\n\n\n\nDiese Online-Veranstaltung bietet Ihnen die Möglichkeit\, wertvolle Einblicke in diese wichtige Thematik zu gewinnen und sich mit anderen Arbeitgebenden auszutauschen. \n\n\n\nBitte melden Sie sich über folgenden Link an\, die Zahl der Teilnehmenden ist begrenzt. \n\n\n\nAnmeldung:Jobcoaching am Arbeitsplatz – Unterstützung für schwerbehinderte Menschen im Betrieb \n\n\n\nWir freuen uns auf Ihre Teilnahme und einen konstruktiven Austausch\, \n\n\n\nIhr EAA-Team Osnabrück Julia Dörenkämper\, Zeljko Dragic\, Sibylle Masselink\, Monika Schleper
URL:https://eaa-niedersachsen.de/event/jobcoaching-am-arbeitsplatz-unterstuetzung-fuer-schwerbehinderte-menschen-im-betrieb/
LOCATION:digital
CATEGORIES:EAA - digital
ATTACH;FMTTYPE=image/jpeg:https://eaa-niedersachsen.de/wp-content/uploads/2025/03/EAA-digital-Team-OS.jpg
END:VEVENT
END:VCALENDAR