BEGIN:VCALENDAR
VERSION:2.0
PRODID:-//EAA-Niedersachsen - ECPv6.15.17.1//NONSGML v1.0//EN
CALSCALE:GREGORIAN
METHOD:PUBLISH
X-WR-CALNAME:EAA-Niedersachsen
X-ORIGINAL-URL:https://eaa-niedersachsen.de
X-WR-CALDESC:Veranstaltungen für EAA-Niedersachsen
REFRESH-INTERVAL;VALUE=DURATION:PT1H
X-Robots-Tag:noindex
X-PUBLISHED-TTL:PT1H
BEGIN:VTIMEZONE
TZID:Europe/Berlin
BEGIN:DAYLIGHT
TZOFFSETFROM:+0100
TZOFFSETTO:+0200
TZNAME:CEST
DTSTART:20240331T010000
END:DAYLIGHT
BEGIN:STANDARD
TZOFFSETFROM:+0200
TZOFFSETTO:+0100
TZNAME:CET
DTSTART:20241027T010000
END:STANDARD
BEGIN:DAYLIGHT
TZOFFSETFROM:+0100
TZOFFSETTO:+0200
TZNAME:CEST
DTSTART:20250330T010000
END:DAYLIGHT
BEGIN:STANDARD
TZOFFSETFROM:+0200
TZOFFSETTO:+0100
TZNAME:CET
DTSTART:20251026T010000
END:STANDARD
BEGIN:DAYLIGHT
TZOFFSETFROM:+0100
TZOFFSETTO:+0200
TZNAME:CEST
DTSTART:20260329T010000
END:DAYLIGHT
BEGIN:STANDARD
TZOFFSETFROM:+0200
TZOFFSETTO:+0100
TZNAME:CET
DTSTART:20261025T010000
END:STANDARD
END:VTIMEZONE
BEGIN:VEVENT
DTSTART;TZID=Europe/Berlin:20251113T130000
DTEND;TZID=Europe/Berlin:20251113T133000
DTSTAMP:20260422T174658
CREATED:20250326T154921Z
LAST-MODIFIED:20251014T122131Z
UID:1410-1763038800-1763040600@eaa-niedersachsen.de
SUMMARY:EAA – Das sind wir!
DESCRIPTION:EAA – Das sind wir! \n\n\n\nBeraterteam für Arbeitgebende – Thema Arbeit und Behinderung \n\n\n\nSie sind daran interessiert\, welche Unterstützung Sie beim Thema Arbeit und Behinderung erhalten können? Dann sind Sie hier richtig! \n\n\n\nUm Arbeitgebenden den Zugang zu Informationen und Förderungen zu erleichtern\, wurde das kostenlose Angebot der Einheitlichen Ansprechstellen für Arbeitgeber – kurz EAA – vom Land Niedersachsen geschaffen. \n\n\n\nIn diesem Online-Format geben wir Ihnen in aller Kürze die Gelegenheit\, uns und unser Angebot kennenzulernen und uns Ihre Fragen zu stellen. \n\n\n\nWir freuen uns auf Ihre Teilnahme!  \n\n\n\nIhr EAA-Team Oldenburg  \n\n\n\n————————————————- \n\n\n\nAnmeldung:   https://pretix.eu/eaa-nds/OL107 \n\n\n\nTeilnahme-Link:  \n\n\n\nhttps://teams.microsoft.com/l/meetup-join/19%3ameeting_M2EzZTU0YWMtMzVjZC00NTE3LTkwMzAtYmYxOWFmZGRlMmNh%40thread.v2/0?context=%7b%22Tid%22%3a%22e635bad1-57d5-465e-9761-f630b8fe0b32%22%2c%22Oid%22%3a%222e8e4521-eafb-4e2d-b261-7e004ca9e355%22%7d
URL:https://eaa-niedersachsen.de/event/eaa-das-sind-wir-3/
LOCATION:digital
CATEGORIES:EAA - das sind wir
ATTACH;FMTTYPE=image/jpeg:https://eaa-niedersachsen.de/wp-content/uploads/2025/03/EAA-Das-sind-wir-Team-OL.jpg
END:VEVENT
BEGIN:VEVENT
DTSTART;TZID=Europe/Berlin:20251119T100000
DTEND;TZID=Europe/Berlin:20251119T103000
DTSTAMP:20260422T174658
CREATED:20251023T105616Z
LAST-MODIFIED:20251023T110302Z
UID:8171-1763546400-1763548200@eaa-niedersachsen.de
SUMMARY:EAA – das sind wir!
DESCRIPTION:Die Einheitliche Ansprechstelle für Arbeitgeber (EAA) der Region Osnabrück stellt sich vor \n\n\n\n\n\n\n\nDie Einheitlichen Ansprechstellen für Arbeitgeber (EAA) unterstützen Arbeitgebende gemäß § 185a SGB IX bei allen Fragen zur beruflichen Inklusion von schwerbehinderten Menschen – praxisnah\, lösungsorientiert und individuell. Wir als Lotsen helfen Ihnen\, sich im Themenfeld Inklusion sicher zu bewegen. \n\n\n\nWir laden Sie herzlich ein\, sich im Rahmen unseres digitalen Runden Tisches über unser Angebot zu informieren. Sie erhalten Informationen zu folgenden Fragen: \n\n\n\n•  Welche Aufgaben haben die Fachberater*innen der EAA? \n\n\n\n•  Wie können wir Ihr Unternehmen gezielt unterstützen? \n\n\n\n•  Welche Regionen decken wir ab und wer ist Ihr Ansprechpartner? \n\n\n\n•  Wie können Sie uns erreichen? \n\n\n\nNutzen Sie diese Gelegenheit\, um sich aus erster Hand über unsere Angebote zu informieren und sich mit anderen Unternehmen auszutauschen. \n\n\n\nAnmeldungen unter folgendem Link: https://pretix.eu/EAA-OS/Wir/  \n\n\n\nIhr EAA-Team Osnabrück \n\n\n\nAnmeldung: https://pretix.eu/EAA-OS/Wir/
URL:https://eaa-niedersachsen.de/event/eaa-das-sind-wir-9/
LOCATION:digital
CATEGORIES:EAA - das sind wir
ATTACH;FMTTYPE=image/png:https://eaa-niedersachsen.de/wp-content/uploads/2025/10/EAA-digital-Team-OS.png
END:VEVENT
BEGIN:VEVENT
DTSTART;TZID=Europe/Berlin:20251125T140000
DTEND;TZID=Europe/Berlin:20251125T160000
DTSTAMP:20260422T174658
CREATED:20251107T112602Z
LAST-MODIFIED:20251107T112615Z
UID:8176-1764079200-1764086400@eaa-niedersachsen.de
SUMMARY:Teilhabe ermöglichen – Fachkräfte fördern: Übergänge aus der WfbM aktiv gestalten und profitieren
DESCRIPTION:Teilhabe ermöglichen – Fachkräfte fördern: Übergänge aus der WfbM aktiv gestalten und profitieren \n\n\n\nIn Deutschland arbeiten rund 320.000 Menschen in Werkstätten für behinderte Menschen (WfbM) – viele von ihnen mit Fähigkeiten\, die in Unternehmen dringend gebraucht werden. Menschen mit Behinderung bringen wertvolle Kompetenzen\, Motivation und frische Perspektiven in Unternehmen ein. Der Übergang von der Werkstatt für behinderte Menschen (WfbM) in den allgemeinen Arbeitsmarkt bietet Arbeitgeberinnen und Arbeitgebern die Chance\, neue Arbeitskräfte zu gewinnen und Fachkräfte zu entlasten – und gleichzeitig gelebte Inklusion umzusetzen. Erfahren Sie\, wie Sie diese Potenziale gezielt ansprechen\, welche Fördermöglichkeiten dafür bereitstehen und wie der Einstieg für beide Seiten erfolgreich gestaltet werden kann.  \n\n\n\nWir wollen in der Veranstaltung Wege aufzeigen\, wie Sie Menschen aus der WfbM gezielt für Ihr Unternehmen ansprechen und gewinnen können. Dabei wollen wir einen spezifischen Blick auf die Schritte von Praktika\, über Außenarbeitsplätze bis hin zum Budget für Arbeit werfen\, die möglich sind\, damit der Übergang auf den allgemeinen Arbeitsmarkt gelingen kann.  \n\n\n\nAls Referenten sind vorgesehen:  \n\n\n\n\nTom Bartneck\, Fachkraft des Integrationsfachdienst (IFD) Wunstorf für das Budget für Arbeit \n\n\n\n\n\nAstrid Giese\, Fachdienst Berufliche Inklusion Top in Job\, Paritätische Lebenshilfe Schaumburg-Weserbergland (PLSW) \n\n\n\n\n\nMelanie Scholz\, Paritätischer Landesverband\, Projektleitung Inklusion in Kita-Teams \n\n\n\n\n\nNils Kotlarski\, cps Programmier-Service GmbH \n\n\n\n\n\nJens Kaiser\, Heilpädagogischer Kindergarten „Wirbelwind“ \n\n\n\n\nWir wollen Fragen beantworten wie:  \n\n\n\n\nWas steckt hinter dem Budget für Arbeit? \n\n\n\nWie funktioniert der Übergang von der WfbM auf den allgemeinen Arbeitsmarkt – vom Praktikum\, über den Außenarbeitsplatz\, bis hin zum Budget für Arbeit? \n\n\n\nWie können Arbeitgebende Beschäftigte in WfbM gezielt ansprechen und für das Unternehmen gewinnen?  \n\n\n\n\nWir laden Sie herzlich zu unserer Online-Veranstaltung am Dienstag\, 25.11.2025\, um  14.00 Uhr (Microsoft-Teams) ein. Bitte melden Sie sich bis zum 10.11.2025 über diesen Link an. Der Versand des Einwahllinks für Teams erfolgt nach Anmeldung eine Woche vor der Veranstaltung direkt an die Teilnehmenden. Aus organisatorischen Gründen ist die Teilnehmerzahl auf 50 Personen begrenzt\, es gibt eine Warteliste.  \n\n\n\nBei Fragen wenden Sie sich gerne an:  Lars Lippenmeier\, Fachberater der EAA Göttingen 0170 9294494 Lars.Lippenmeier@eaa-niedersachsen.de  
URL:https://eaa-niedersachsen.de/event/teilhabe-ermoeglichen-fachkraefte-foerdern-uebergaenge-aus-der-wfbm-aktiv-gestalten-und-profitieren/
CATEGORIES:EAA - digital
END:VEVENT
END:VCALENDAR