BEGIN:VCALENDAR
VERSION:2.0
PRODID:-//EAA-Niedersachsen - ECPv6.15.17.1//NONSGML v1.0//EN
CALSCALE:GREGORIAN
METHOD:PUBLISH
X-WR-CALNAME:EAA-Niedersachsen
X-ORIGINAL-URL:https://eaa-niedersachsen.de
X-WR-CALDESC:Veranstaltungen für EAA-Niedersachsen
REFRESH-INTERVAL;VALUE=DURATION:PT1H
X-Robots-Tag:noindex
X-PUBLISHED-TTL:PT1H
BEGIN:VTIMEZONE
TZID:Europe/Berlin
BEGIN:DAYLIGHT
TZOFFSETFROM:+0100
TZOFFSETTO:+0200
TZNAME:CEST
DTSTART:20250330T010000
END:DAYLIGHT
BEGIN:STANDARD
TZOFFSETFROM:+0200
TZOFFSETTO:+0100
TZNAME:CET
DTSTART:20251026T010000
END:STANDARD
BEGIN:DAYLIGHT
TZOFFSETFROM:+0100
TZOFFSETTO:+0200
TZNAME:CEST
DTSTART:20260329T010000
END:DAYLIGHT
BEGIN:STANDARD
TZOFFSETFROM:+0200
TZOFFSETTO:+0100
TZNAME:CET
DTSTART:20261025T010000
END:STANDARD
BEGIN:DAYLIGHT
TZOFFSETFROM:+0100
TZOFFSETTO:+0200
TZNAME:CEST
DTSTART:20270328T010000
END:DAYLIGHT
BEGIN:STANDARD
TZOFFSETFROM:+0200
TZOFFSETTO:+0100
TZNAME:CET
DTSTART:20271031T010000
END:STANDARD
END:VTIMEZONE
BEGIN:VEVENT
DTSTART;TZID=Europe/Berlin:20260422T140000
DTEND;TZID=Europe/Berlin:20260422T143000
DTSTAMP:20260422T001431
CREATED:20251217T132601Z
LAST-MODIFIED:20260402T100737Z
UID:8253-1776866400-1776868200@eaa-niedersachsen.de
SUMMARY:Jobcoaching am Arbeitsplatz für Menschen mit Behinderungen
DESCRIPTION:EAA – kurz & knackig – kostenlose Online-Veranstaltung \n\n\n\nWorum geht es?   Das JobcoachingAP hat das Ziel\, Arbeitnehmende intensiv zu unterstützen und dabei zeitlich begrenzt einen „Kollegen auf Zeit“ zur Verfügung zu stellen.Dabei kann das Instrument bei Wechsel von Arbeitsplätzen mit umfangreicher Einarbeitung\, bei Konflikten am Arbeitsplatz und zur Anpassung der Anforderungen genutzt werden.   Stefan Busch vom Integrationsfachdienst Emden wird uns dieses Angebot in einem kurzweiligen Vortrag praxisnah näherbringen.  \n\n\n\nZielgruppeInteressierte Arbeitgebende und Personalverantwortliche \n\n\n\nAnmeldung
URL:https://eaa-niedersachsen.de/event/jobcoaching-am-arbeitsplatz-fuer-menschen-mit-behinderungen/
LOCATION:digital
CATEGORIES:EAA - digital
ATTACH;FMTTYPE=image/png:https://eaa-niedersachsen.de/wp-content/uploads/2025/08/EAA-Das-sind-wir-Team-OL.png
END:VEVENT
BEGIN:VEVENT
DTSTART;TZID=Europe/Berlin:20260423T100000
DTEND;TZID=Europe/Berlin:20260423T103000
DTSTAMP:20260422T001431
CREATED:20260304T110815Z
LAST-MODIFIED:20260306T103318Z
UID:8337-1776938400-1776940200@eaa-niedersachsen.de
SUMMARY:EAA - Das sind wir!
DESCRIPTION:Die Einheitliche Ansprechstelle für Arbeitgeber (EAA) der Region Hannover stellt sich vor.\n\n\n\n\n\nIn unserer kompakten 30-minütigen Online Session erfahren Sie\, wie wir Sie als Arbeitgebende bei allen Fragen zur beruflichen Inklusion von Menschen mit einer Behinderung unterstützen können – kostenlos\, praxisnah und lösungsorientiert. Wir als Lotsen helfen Ihnen\, sich im Themenfeld Inklusion sicher zu bewegen. Dabei klären wir Ihre Fragen beispielsweise zu: \n\n\n\n• Welche Aufgaben hat die EAA? \n\n\n\n• Wie informieren\, beraten und unterstützen wir Arbeitgebende konkret? \n\n\n\n• Welchen Mehrwert bietet Ihnen unser Angebot? \n\n\n\nLernen Sie das EAA-Team der Region Hannover sowie der Landkreise Verden\, Nienburg & Schaumburg persönlich kennen und erhalten Sie eine Einführung in unsere Angebote und Instrumente – zum Beispiel Informationen zu Fördermöglichkeiten oder den Inklusions-Check. \n\n\n\nAußerdem haben Sie die Gelegenheit\, Ihre individuellen Fragen zu stellen und sich zu vernetzen. \n\n\n\nWir freuen uns auf Ihre Teilnahme! \n\n\n\nIhr EAA-Team Hannover \n\n\n\n \n\n\n\nAnmeldung: https://pretix.eu/EAA-H/wir/
URL:https://eaa-niedersachsen.de/event/eaa-das-sind-wir/
LOCATION:digital
CATEGORIES:EAA - das sind wir
ATTACH;FMTTYPE=image/jpeg:https://eaa-niedersachsen.de/wp-content/uploads/2026/03/EAA-Das-sind-wir_Hannover.jpg
END:VEVENT
BEGIN:VEVENT
DTSTART;TZID=Europe/Berlin:20260428T100000
DTEND;TZID=Europe/Berlin:20260428T103000
DTSTAMP:20260422T001431
CREATED:20251014T121653Z
LAST-MODIFIED:20251020T114721Z
UID:8148-1777370400-1777372200@eaa-niedersachsen.de
SUMMARY:EAA – Das sind wir!
DESCRIPTION:EAA – Das sind wir! \n\n\n\nBeraterteam für Arbeitgebende – Thema Arbeit und Behinderung \n\n\n\nSie sind daran interessiert\, welche Unterstützung Sie beim Thema Arbeit und Behinderung erhalten können? Dann sind Sie hier richtig! \n\n\n\nUm Arbeitgebenden den Zugang zu Informationen und Förderungen zu erleichtern\, wurde das kostenlose Angebot der Einheitlichen Ansprechstellen für Arbeitgeber – kurz EAA – vom Land Niedersachsen geschaffen. \n\n\n\nIn diesem wiederkehrenden Online-Format geben wir Ihnen in aller Kürze die Gelegenheit\, uns und unser Angebot kennenzulernen und uns Ihre Fragen zu stellen. \n\n\n\nWir freuen uns auf Ihre Teilnahme!  \n\n\n\nIhr EAA-Team Oldenburg  \n\n\n\n————————————————- \n\n\n\nFür diese Veranstaltung müssen Sie sich nicht anmelden! \n\n\n\nLink zur direkten Teilnahme über MS Teams \n\n\n\nBei technischen Problemen wenden Sie sich bitte direkt an das EAA-Team Oldenburg (s.u.)
URL:https://eaa-niedersachsen.de/event/eaa-das-sind-wir-5/
LOCATION:digital
CATEGORIES:EAA - das sind wir
ATTACH;FMTTYPE=image/jpeg:https://eaa-niedersachsen.de/wp-content/uploads/2025/03/EAA-Das-sind-wir-Team-OL.jpg
END:VEVENT
BEGIN:VEVENT
DTSTART;TZID=Europe/Berlin:20260428T110000
DTEND;TZID=Europe/Berlin:20260428T120000
DTSTAMP:20260422T001431
CREATED:20260312T113758Z
LAST-MODIFIED:20260312T115537Z
UID:8365-1777374000-1777377600@eaa-niedersachsen.de
SUMMARY:Ausgleichsabgabe kompakt - Kosten reduzieren\, Chancen erkennen
DESCRIPTION:Die Einheitlichen Ansprechstellen für Arbeitgeber (EAA) laden Sie ganz herzlich zu einer kompakten digitalen Veranstaltung ein. Gemeinsam mit dem Operativen Service der Bundesagentur für Arbeit und dem Integrationsamt betrachten wir die Ausgleichsabgabe aus rechtlicher und betriebswirtschaftlicher Perspektive und zeigen konkrete Hebel zur Kostenoptimierung auf. \n\n\n\nDiese Veranstaltung kombiniert fundierte Fachinputs mit einem offenen Q&A. So erhalten Sie unmittelbar verwertbare Antworten für Ihre strategische Personalplanung und Kostenrechnung. \n\n\n\nAnmeldung unter https://pretix.eu/EAA-BS/abgabe/ 
URL:https://eaa-niedersachsen.de/event/ausgleichsabgabe-kompakt-kosten-reduzieren-chancen-erkennen-2/
LOCATION:digital
CATEGORIES:EAA - digital
ATTACH;FMTTYPE=image/png:https://eaa-niedersachsen.de/wp-content/uploads/2025/01/EAA-digital-Team-BS.png
END:VEVENT
BEGIN:VEVENT
DTSTART;TZID=Europe/Berlin:20260506T100000
DTEND;TZID=Europe/Berlin:20260506T113000
DTSTAMP:20260422T001431
CREATED:20260414T085613Z
LAST-MODIFIED:20260415T082853Z
UID:8391-1778061600-1778067000@eaa-niedersachsen.de
SUMMARY:Alle Autisten können IT! – Mythos oder Wirklichkeit?
DESCRIPTION:Hier kommt der Faktencheck!\n\n\n\nKostenlose Arbeitgeber-Veranstaltung zum Thema Autismus \n\n\n\n\n\nWorum geht es? Viele Unternehmen möchten sich für die Beschäftigung von Menschen mit Autismus-Störungen öffnen. Dabei können Fragen auftauchen wie \n\n\n\n\nWelche Formen von Autismus gibt es? \n\n\n\nWelche Chancen ergeben sich?\n\n\n\nWelche Herausforderungen gibt es?\n\n\n\nWie erleben Betroffene und Außenstehende diese Entwicklungsstörung? Die langjährigen Therapeutinnen Andrea Precht und Wiebke Hinz von der Autismus-Therapie Weser-Ems gGmbH\, geben Ihnen Einblick in diese Welt und stehen für Ihre Fragen zur Verfügung. In einem zweiten Schritt ist eine weitere Veranstaltung in Präsenz geplant\, in der es darum gehen soll\, wie die Inklusion von Betroffenen im Unternehmen gelingen kann.  \n\n\n\n\nZielgruppe: Geschäftsführende und PersonalverantwortlicheAnmeldung: https://pretix.eu/eaa-nds/autismus-060526Veranstalter: EAA Oldenburg und Osnabrück
URL:https://eaa-niedersachsen.de/event/alle-autisten-koennen-it-mythos-oder-wirklichkeit/
LOCATION:digital
CATEGORIES:EAA - digital
ATTACH;FMTTYPE=image/png:https://eaa-niedersachsen.de/wp-content/uploads/2026/04/EAA-digital-Team-OL-und-OS.png
END:VEVENT
BEGIN:VEVENT
DTSTART;TZID=Europe/Berlin:20260520T100000
DTEND;TZID=Europe/Berlin:20260520T110000
DTSTAMP:20260422T001431
CREATED:20260420T084345Z
LAST-MODIFIED:20260420T084840Z
UID:8401-1779271200-1779274800@eaa-niedersachsen.de
SUMMARY:EAA Digital: „Inklusion im Unternehmen leben – Erfahrungen aus der Praxis bei Hellmann Worldwide Logistics“
DESCRIPTION:Die Einheitlichen Ansprechstellen für Arbeitgeber (EAA) Osnabrück laden Sie herzlich zu einem digitalen Runden Tisch ein. Im Mittelpunkt der Veranstaltung steht das Thema: \n\n\n\n„Inklusion im Unternehmen leben – Erfahrungen aus der Praxis bei Hellmann Worldwide Logistics“ \n\n\n\nInklusion ist ein entscheidender Erfolgsfaktor für moderne und zukunftsfähige Unternehmen. Doch wie kann es gelingen\, Teilhabe im Arbeitsalltag konkret umzusetzen und dauerhaft zu verankern? \n\n\n\nArbeitgeber erhalten praxisnahe Einblicke in die Umsetzung betrieblicher Inklusion in einem international tätigen Unternehmen. Referentin ist Frau Roswitha Ladwig\, Treasury Analyst – Group Treasury sowie Betriebsrätin und Schwerbehindertenvertretung bei Hellmann Worldwide Logistics SE & Co. KG. Sie berichtet aus der Unternehmenspraxis\, zeigt Erfolgsfaktoren auf und steht für Fragen zur Verfügung. \n\n\n\nThematisiert werden unter anderem die Rolle des Betriebsrats und der Schwerbehindertenvertretung\, die Zusammenarbeit aller Beteiligten\, Herausforderungen im Arbeitsalltag sowie konkrete Lösungsansätze für nachhaltige Beschäftigung. \n\n\n\nNeben fachlichen Impulsen bietet die Veranstaltung Raum für Austausch\, Fragen und Vernetzung mit anderen Unternehmen. \n\n\n\nDie Teilnahme ist kostenfrei\, die Zahl der Plätze ist begrenzt. \n\n\n\nJetzt anmelden: \n\n\n\nhttps://pretix.eu/EAA-OS/hellmannwl/
URL:https://eaa-niedersachsen.de/event/eaa-digital-inklusion-im-unternehmen-leben-erfahrungen-aus-der-praxis-bei-hellmann-worldwide-logistics/
LOCATION:digital
CATEGORIES:EAA - digital
ATTACH;FMTTYPE=image/png:https://eaa-niedersachsen.de/wp-content/uploads/2025/10/EAA-digital-Team-OS.png
END:VEVENT
BEGIN:VEVENT
DTSTART;TZID=Europe/Berlin:20260612T100000
DTEND;TZID=Europe/Berlin:20260612T113000
DTSTAMP:20260422T001431
CREATED:20260417T083728Z
LAST-MODIFIED:20260417T083739Z
UID:8399-1781258400-1781263800@eaa-niedersachsen.de
SUMMARY:Fördermöglichkeiten nutzen – Fachkräfte finden und binden
DESCRIPTION:Holen Sie sich in dieser kompakten Digitalveranstaltung alles Wissenswerte rund um Fördermöglichkeiten zur Inklusion im Arbeitsleben. \n\n\n\nGemeinsam mit der Wirtschaftsförderung im Landkreis Nienburg/Weser GmbH (WiN)\, dem Integrationsamt sowie der Einheitlichen Ansprechstelle für Arbeitgeber (EAA) laden wir Sie herzlich ein\, sich über Fördermöglichkeiten\, von Zuschüssen bis hin zu Arbeitsplatzgestaltungen zu informieren. Außerdem erhalten Sie Anregungen\, wie die Fachkräftefindung und -bindung noch gelingen und sich obendrein finanziell lohnen kann.  \n\n\n\nWas Sie erwartet: \n\n\n\n\nFachimpulse\n\n\n\nTipps zu Fördermöglichkeiten\n\n\n\nPraxisnahe Lösungen für die Fachkräftegewinnung & -bindung\n\n\n\nAustausch & Best-Practice mit anderen Arbeitgebenden\n\n\n\n\nZielgruppe: Arbeitgebende\, Personalverantwortliche \n\n\n\nJetzt anmelden: https://pretix.eu/EAA-H/foerderung/ \n\n\n\nWir freuen uns auf Sie!
URL:https://eaa-niedersachsen.de/event/foerdermoeglichkeiten-nutzen-fachkraefte-finden-und-binden/
LOCATION:digital
CATEGORIES:EAA - digital
ATTACH;FMTTYPE=image/jpeg:https://eaa-niedersachsen.de/wp-content/uploads/2026/03/EAA-digital-Team-Hannover.jpg
END:VEVENT
BEGIN:VEVENT
DTSTART;TZID=Europe/Berlin:20260624T120000
DTEND;TZID=Europe/Berlin:20260624T123000
DTSTAMP:20260422T001431
CREATED:20251014T122811Z
LAST-MODIFIED:20251020T114100Z
UID:8150-1782302400-1782304200@eaa-niedersachsen.de
SUMMARY:EAA – Das sind wir!
DESCRIPTION:EAA – Das sind wir! \n\n\n\nBeraterteam für Arbeitgebende – Thema Arbeit und Behinderung \n\n\n\nSie sind daran interessiert\, welche Unterstützung Sie beim Thema Arbeit und Behinderung erhalten können? Dann sind Sie hier richtig! \n\n\n\nUm Arbeitgebenden den Zugang zu Informationen und Förderungen zu erleichtern\, wurde das kostenlose Angebot der Einheitlichen Ansprechstellen für Arbeitgeber – kurz EAA – vom Land Niedersachsen geschaffen. \n\n\n\nIn diesem wiederkehrenden Online-Format geben wir Ihnen in aller Kürze die Gelegenheit\, uns und unser Angebot kennenzulernen und uns Ihre Fragen zu stellen. \n\n\n\nWir freuen uns auf Ihre Teilnahme!  \n\n\n\nIhr EAA-Team Oldenburg  \n\n\n\n————————————————- \n\n\n\nFür diese Veranstaltung müssen Sie sich nicht anmelden! \n\n\n\nLink zur direkten Teilnahme über MS Teams \n\n\n\nBei technischen Problemen wenden Sie sich bitte direkt an das EAA-Team Oldenburg (s.u.)
URL:https://eaa-niedersachsen.de/event/eaa-das-sind-wir-6/
LOCATION:digital
CATEGORIES:EAA - das sind wir
ATTACH;FMTTYPE=image/jpeg:https://eaa-niedersachsen.de/wp-content/uploads/2025/03/EAA-Das-sind-wir-Team-OL.jpg
END:VEVENT
BEGIN:VEVENT
DTSTART;TZID=Europe/Berlin:20260827T140000
DTEND;TZID=Europe/Berlin:20260827T143000
DTSTAMP:20260422T001431
CREATED:20251014T125442Z
LAST-MODIFIED:20251020T114313Z
UID:8159-1787839200-1787841000@eaa-niedersachsen.de
SUMMARY:EAA – Das sind wir!
DESCRIPTION:EAA – Das sind wir! \n\n\n\nBeraterteam für Arbeitgebende – Thema Arbeit und Behinderung \n\n\n\nSie sind daran interessiert\, welche Unterstützung Sie beim Thema Arbeit und Behinderung erhalten können? Dann sind Sie hier richtig! \n\n\n\nUm Arbeitgebenden den Zugang zu Informationen und Förderungen zu erleichtern\, wurde das kostenlose Angebot der Einheitlichen Ansprechstellen für Arbeitgeber – kurz EAA – vom Land Niedersachsen geschaffen. \n\n\n\nIn diesem wiederkehrenden Online-Format geben wir Ihnen in aller Kürze die Gelegenheit\, uns und unser Angebot kennenzulernen und uns Ihre Fragen zu stellen. \n\n\n\nWir freuen uns auf Ihre Teilnahme!  \n\n\n\nIhr EAA-Team Oldenburg  \n\n\n\n————————————————- \n\n\n\nFür diese Veranstaltung müssen Sie sich nicht anmelden! \n\n\n\nLink zur direkten Teilnahme über MS Teams \n\n\n\nBei technischen Problemen wenden Sie sich bitte direkt an das EAA-Team Oldenburg (s.u.)
URL:https://eaa-niedersachsen.de/event/eaa-das-sind-wir-7/
LOCATION:digital
CATEGORIES:EAA - das sind wir
ATTACH;FMTTYPE=image/jpeg:https://eaa-niedersachsen.de/wp-content/uploads/2025/03/EAA-Das-sind-wir-Team-OL.jpg
END:VEVENT
BEGIN:VEVENT
DTSTART;TZID=Europe/Berlin:20261030T090000
DTEND;TZID=Europe/Berlin:20261030T093000
DTSTAMP:20260422T001431
CREATED:20251014T130236Z
LAST-MODIFIED:20251020T114546Z
UID:8161-1793350800-1793352600@eaa-niedersachsen.de
SUMMARY:EAA – Das sind wir!
DESCRIPTION:EAA – Das sind wir! \n\n\n\nBeraterteam für Arbeitgebende – Thema Arbeit und Behinderung \n\n\n\nSie sind daran interessiert\, welche Unterstützung Sie beim Thema Arbeit und Behinderung erhalten können? Dann sind Sie hier richtig! \n\n\n\nUm Arbeitgebenden den Zugang zu Informationen und Förderungen zu erleichtern\, wurde das kostenlose Angebot der Einheitlichen Ansprechstellen für Arbeitgeber – kurz EAA – vom Land Niedersachsen geschaffen. \n\n\n\nIn diesem wiederkehrenden Online-Format geben wir Ihnen in aller Kürze die Gelegenheit\, uns und unser Angebot kennenzulernen und uns Ihre Fragen zu stellen. \n\n\n\nWir freuen uns auf Ihre Teilnahme!  \n\n\n\nIhr EAA-Team Oldenburg  \n\n\n\n————————————————- \n\n\n\nFür diese Veranstaltung müssen Sie sich nicht anmelden! \n\n\n\nLink zur direkten Teilnahme über MS Teams \n\n\n\nBei technischen Problemen wenden Sie sich bitte direkt an das EAA-Team Oldenburg (s.u.)
URL:https://eaa-niedersachsen.de/event/eaa-das-sind-wir-8/
LOCATION:digital
CATEGORIES:EAA - das sind wir
ATTACH;FMTTYPE=image/jpeg:https://eaa-niedersachsen.de/wp-content/uploads/2025/03/EAA-Das-sind-wir-Team-OL.jpg
END:VEVENT
END:VCALENDAR